BEGIN:VCALENDAR
VERSION:2.0
PRODID:-//ST. GEORGE &amp; ST. MERCURIUS - ECPv4.6.12//NONSGML v1.0//EN
CALSCALE:GREGORIAN
METHOD:PUBLISH
X-WR-CALNAME:ST. GEORGE &amp; ST. MERCURIUS
X-ORIGINAL-URL:https://stgeorge-stmercurius.com
X-WR-CALDESC:Events for ST. GEORGE &amp; ST. MERCURIUS
BEGIN:VEVENT
DTSTART;TZID=UTC+0:20170114T200000
DTEND;TZID=UTC+0:20170114T220000
DTSTAMP:20260421T185215
CREATED:20170104T150055Z
LAST-MODIFIED:20170104T150221Z
UID:4125-1484424000-1484431200@stgeorge-stmercurius.com
SUMMARY:لقاء أصدقاء الكتاب المقدس
DESCRIPTION:لقاء أصدقاء الكتاب المقدس\nدراسة في سفر ميخا-Friends of the Bible meeting\, a study of the book of Micah\n
URL:https://stgeorge-stmercurius.com/event/%d9%84%d9%82%d8%a7%d8%a1-%d8%a3%d8%b5%d8%af%d9%82%d8%a7%d8%a1-%d8%a7%d9%84%d9%83%d8%aa%d8%a7%d8%a8-%d8%a7%d9%84%d9%85%d9%82%d8%af%d8%b3/
ATTACH;FMTTYPE=image/jpeg:https://stgeorge-stmercurius.com/wp-content/uploads/2016/10/IMG_4399.jpg
END:VEVENT
END:VCALENDAR