BEGIN:VCALENDAR
VERSION:2.0
PRODID:-//ST. GEORGE &amp; ST. MERCURIUS - ECPv4.6.12//NONSGML v1.0//EN
CALSCALE:GREGORIAN
METHOD:PUBLISH
X-WR-CALNAME:ST. GEORGE &amp; ST. MERCURIUS
X-ORIGINAL-URL:https://stgeorge-stmercurius.com
X-WR-CALDESC:Events for ST. GEORGE &amp; ST. MERCURIUS
BEGIN:VEVENT
DTSTART;TZID=UTC+0:20190710T060000
DTEND;TZID=UTC+0:20190710T080000
DTSTAMP:20260421T143609
CREATED:20160906T162229Z
LAST-MODIFIED:20190707T235820Z
UID:12236-1562738400-1562745600@stgeorge-stmercurius.com
SUMMARY:Divine Liturgy - القداس الالهى
DESCRIPTION:Divine Liturgy \nThe Departure of St. Cyril I\, 24thPope of Alexandria \nالقداس الالهى\n
URL:https://stgeorge-stmercurius.com/event/divine-liturgy-%d8%a7%d9%84%d9%82%d8%af%d8%a7%d8%b3-%d8%a7%d9%84%d8%a7%d9%84%d9%87%d9%89-2-2017-02-22-2019-07-10/
ATTACH;FMTTYPE=image/jpeg:https://stgeorge-stmercurius.com/wp-content/uploads/2016/10/IMG_6832-e1475975331812.jpg
END:VEVENT
END:VCALENDAR