BEGIN:VCALENDAR
VERSION:2.0
PRODID:-//ST. GEORGE &amp; ST. MERCURIUS - ECPv4.6.12//NONSGML v1.0//EN
CALSCALE:GREGORIAN
METHOD:PUBLISH
X-WR-CALNAME:ST. GEORGE &amp; ST. MERCURIUS
X-ORIGINAL-URL:https://stgeorge-stmercurius.com
X-WR-CALDESC:Events for ST. GEORGE &amp; ST. MERCURIUS
BEGIN:VEVENT
DTSTART;TZID=UTC+0:20230312T080000
DTEND;TZID=UTC+0:20230312T110000
DTSTAMP:20260422T102429
CREATED:20160906T162027Z
LAST-MODIFIED:20230309T235035Z
UID:26499-1678608000-1678618800@stgeorge-stmercurius.com
SUMMARY:Divine Liturgy - القداس الالهى
DESCRIPTION:Divine Liturgy \nThird Sunday of Holy Lent \n(The Prodigal Son) \nالقداس الالهى يعقبه مدارس الأحد٬ و درس الكتاب\n  \n
URL:https://stgeorge-stmercurius.com/event/divine-liturgy-%d8%a7%d9%84%d9%82%d8%af%d8%a7%d8%b3-%d8%a7%d9%84%d8%a7%d9%84%d9%87%d9%89-2020-06-28-2022-05-15-2023-03-12/
CATEGORIES:English
ATTACH;FMTTYPE=image/jpeg:https://stgeorge-stmercurius.com/wp-content/uploads/2016/10/ABFFE348-C967-4A44-AFA8-4EA141A7C28D.jpeg
END:VEVENT
END:VCALENDAR