BEGIN:VCALENDAR
VERSION:2.0
PRODID:-//ST. GEORGE &amp; ST. MERCURIUS - ECPv4.6.12//NONSGML v1.0//EN
CALSCALE:GREGORIAN
METHOD:PUBLISH
X-WR-CALNAME:ST. GEORGE &amp; ST. MERCURIUS
X-ORIGINAL-URL:https://stgeorge-stmercurius.com
X-WR-CALDESC:Events for ST. GEORGE &amp; ST. MERCURIUS
BEGIN:VEVENT
DTSTART;TZID=UTC+0:20220822T080000
DTEND;TZID=UTC+0:20220822T100000
DTSTAMP:20260421T102913
CREATED:20160906T162821Z
LAST-MODIFIED:20220814T204505Z
UID:18064-1661155200-1661162400@stgeorge-stmercurius.com
SUMMARY:Feast of St Mary
DESCRIPTION:Divine Liturgy \nالقداس الالهى\n
URL:https://stgeorge-stmercurius.com/event/divine-liturgy-%d8%a7%d9%84%d9%82%d8%af%d8%a7%d8%b3-%d8%a7%d9%84%d8%a7%d9%84%d9%87%d9%89-3-2017-02-24-2017-03-03-2020-03-06-2022-08-19/
CATEGORIES:English
ATTACH;FMTTYPE=image/jpeg:https://stgeorge-stmercurius.com/wp-content/uploads/2022/08/8CA580D8-548A-47AF-AB35-4455D877CBA2.jpeg
END:VEVENT
END:VCALENDAR