BEGIN:VCALENDAR
VERSION:2.0
PRODID:-//ST. GEORGE &amp; ST. MERCURIUS - ECPv4.6.12//NONSGML v1.0//EN
CALSCALE:GREGORIAN
METHOD:PUBLISH
X-WR-CALNAME:ST. GEORGE &amp; ST. MERCURIUS
X-ORIGINAL-URL:https://stgeorge-stmercurius.com
X-WR-CALDESC:Events for ST. GEORGE &amp; ST. MERCURIUS
BEGIN:VEVENT
DTSTART;TZID=UTC+0:20180929T080000
DTEND;TZID=UTC+0:20180929T103000
DTSTAMP:20260426T001838
CREATED:20161016T052301Z
LAST-MODIFIED:20180917T021922Z
UID:4871-1538208000-1538217000@stgeorge-stmercurius.com
SUMMARY:Divine Liturgy – القداس الالهى
DESCRIPTION:Divine Liturgy- Third day of the Feast of the Holy Cross\nالقداس الالهى \nاليوم الثالث من عيد الصليب المقدس\n
URL:https://stgeorge-stmercurius.com/event/divine-liturgy-%d8%a7%d9%84%d9%82%d8%af%d8%a7%d8%b3-%d8%a7%d9%84%d8%a7%d9%84%d9%87%d9%89-4-2018-09-29/
ATTACH;FMTTYPE=image/jpeg:https://stgeorge-stmercurius.com/wp-content/uploads/2016/10/B494989C-8C63-4952-A601-E739277C38A3.jpeg
END:VEVENT
END:VCALENDAR