BEGIN:VCALENDAR
VERSION:2.0
PRODID:-//ST. GEORGE &amp; ST. MERCURIUS - ECPv4.6.12//NONSGML v1.0//EN
CALSCALE:GREGORIAN
METHOD:PUBLISH
X-WR-CALNAME:ST. GEORGE &amp; ST. MERCURIUS
X-ORIGINAL-URL:https://stgeorge-stmercurius.com
X-WR-CALDESC:Events for ST. GEORGE &amp; ST. MERCURIUS
BEGIN:VEVENT
DTSTART;TZID=UTC+0:20170127T193000
DTEND;TZID=UTC+0:20170127T210000
DTSTAMP:20260421T215758
CREATED:20161028T013042Z
LAST-MODIFIED:20170126T161642Z
UID:3243-1485545400-1485550800@stgeorge-stmercurius.com
SUMMARY:Family meeting- اجتماع الأسرة
DESCRIPTION:بالرجوع و السكون تخلصون بالهدوء و الطمانينة تكون قوتكم “أش15:30 \nيشرفنا بالكلمة في إجتماع الأسرة هذا الأسبوع: أيمن سوريال وموضوع خاص عن \nالهدوء والطمأنينة \nفي إنتظاركم الجمعة 7:30 \nتعالوا وأدعوا الآخرون \nFor further information\, Please Contact: Sameh & Miriam Awad or Mina & Mary Bekhet or Rafik & Marian Sharobiem \n
URL:https://stgeorge-stmercurius.com/event/family-meeting-%d8%a7%d8%ac%d8%aa%d9%85%d8%a7%d8%b9-%d8%a7%d9%84%d8%a3%d8%b3%d8%b1%d8%a9-2017-01-27/
ATTACH;FMTTYPE=image/jpeg:https://stgeorge-stmercurius.com/wp-content/uploads/2016/10/IMG_7139.jpg
END:VEVENT
END:VCALENDAR