BEGIN:VCALENDAR
VERSION:2.0
PRODID:-//ST. GEORGE &amp; ST. MERCURIUS - ECPv4.6.12//NONSGML v1.0//EN
CALSCALE:GREGORIAN
METHOD:PUBLISH
X-WR-CALNAME:ST. GEORGE &amp; ST. MERCURIUS
X-ORIGINAL-URL:https://stgeorge-stmercurius.com
X-WR-CALDESC:Events for ST. GEORGE &amp; ST. MERCURIUS
BEGIN:VEVENT
DTSTART;TZID=UTC+0:20170203T193000
DTEND;TZID=UTC+0:20170203T210000
DTSTAMP:20260421T185327
CREATED:20161028T013042Z
LAST-MODIFIED:20170202T123139Z
UID:3244-1486150200-1486155600@stgeorge-stmercurius.com
SUMMARY:Family meeting- اجتماع الأسرة
DESCRIPTION:“ملناش غيرك أنت إلهنا الحي بنترجاه… جايين ناحية قلبك بابا الكل أمنحنا صلاة” يدعوكم إجتماع الأسرة هذا الأسبوع للمشاركة في إجتماع الصلاة الثاني من أجل الخدمة في الكنيسة. في إنتظاركم الجمعة 7:30pm تعالوا وأدعوا الآخرون. \n
URL:https://stgeorge-stmercurius.com/event/family-meeting-%d8%a7%d8%ac%d8%aa%d9%85%d8%a7%d8%b9-%d8%a7%d9%84%d8%a3%d8%b3%d8%b1%d8%a9-2017-02-03/
ATTACH;FMTTYPE=image/jpeg:https://stgeorge-stmercurius.com/wp-content/uploads/2016/10/IMG_7139.jpg
END:VEVENT
END:VCALENDAR