BEGIN:VCALENDAR
VERSION:2.0
PRODID:-//ST. GEORGE &amp; ST. MERCURIUS - ECPv4.6.12//NONSGML v1.0//EN
CALSCALE:GREGORIAN
METHOD:PUBLISH
X-WR-CALNAME:ST. GEORGE &amp; ST. MERCURIUS
X-ORIGINAL-URL:https://stgeorge-stmercurius.com
X-WR-CALDESC:Events for ST. GEORGE &amp; ST. MERCURIUS
BEGIN:VEVENT
DTSTART;VALUE=DATE:20250712
DTEND;VALUE=DATE:20250713
DTSTAMP:20260421T164558
CREATED:20250705T195948Z
LAST-MODIFIED:20250705T200620Z
UID:36493-1752278400-1752364799@stgeorge-stmercurius.com
SUMMARY:Feast of the Apostles
DESCRIPTION:
URL:https://stgeorge-stmercurius.com/event/feast-of-the-apostles/
END:VEVENT
END:VCALENDAR