BEGIN:VCALENDAR
VERSION:2.0
PRODID:-//ST. GEORGE &amp; ST. MERCURIUS - ECPv4.6.12//NONSGML v1.0//EN
CALSCALE:GREGORIAN
METHOD:PUBLISH
X-WR-CALNAME:ST. GEORGE &amp; ST. MERCURIUS
X-ORIGINAL-URL:https://stgeorge-stmercurius.com
X-WR-CALDESC:Events for ST. GEORGE &amp; ST. MERCURIUS
BEGIN:VEVENT
DTSTART;TZID=UTC+0:20191204T193000
DTEND;TZID=UTC+0:20191204T213000
DTSTAMP:20260421T160227
CREATED:20160526T190428Z
LAST-MODIFIED:20191204T043305Z
UID:7012-1575487800-1575495000@stgeorge-stmercurius.com
SUMMARY:Hymns and the offering of evening Incense - تسبحة و رفع بخور صلاة عشية
DESCRIPTION:Offering of the evening Incense to the feast of Martyrdom of St. Philopateer Mercurius Abou-Sefain \n
URL:https://stgeorge-stmercurius.com/event/hymns-and-the-offering-of-evening-incense-2019-11-30/
ATTACH;FMTTYPE=image/jpeg:https://stgeorge-stmercurius.com/wp-content/uploads/2016/05/4A6B5571-9CEF-4DE0-837C-4FD55109EAC4.jpeg
END:VEVENT
END:VCALENDAR