BEGIN:VCALENDAR
VERSION:2.0
PRODID:-//ST. GEORGE &amp; ST. MERCURIUS - ECPv4.6.12//NONSGML v1.0//EN
CALSCALE:GREGORIAN
METHOD:PUBLISH
X-WR-CALNAME:ST. GEORGE &amp; ST. MERCURIUS
X-ORIGINAL-URL:https://stgeorge-stmercurius.com
X-WR-CALDESC:Events for ST. GEORGE &amp; ST. MERCURIUS
BEGIN:VEVENT
DTSTART;TZID=UTC+0:20230911T193000
DTEND;TZID=UTC+0:20230911T210000
DTSTAMP:20260422T004404
CREATED:20160526T190428Z
LAST-MODIFIED:20230904T123809Z
UID:23642-1694460600-1694466000@stgeorge-stmercurius.com
SUMMARY:Hymns and the offering of evening Incense - تسبحة و رفع بخور صلاة عشية
DESCRIPTION:Offering of evening incense for the NayrouzFeast – anointing the relics of St. George and St. Mercurius \n
URL:https://stgeorge-stmercurius.com/event/hymns-and-the-offering-of-evening-incense-2023-07-29-2023-09-02/
ATTACH;FMTTYPE=image/jpeg:https://stgeorge-stmercurius.com/wp-content/uploads/2016/09/IMG_3579.jpeg
END:VEVENT
END:VCALENDAR