BEGIN:VCALENDAR
VERSION:2.0
PRODID:-//ST. GEORGE &amp; ST. MERCURIUS - ECPv4.6.12//NONSGML v1.0//EN
CALSCALE:GREGORIAN
METHOD:PUBLISH
X-WR-CALNAME:ST. GEORGE &amp; ST. MERCURIUS
X-ORIGINAL-URL:https://stgeorge-stmercurius.com
X-WR-CALDESC:Events for ST. GEORGE &amp; ST. MERCURIUS
BEGIN:VEVENT
DTSTART;TZID=UTC+0:20270310T190000
DTEND;TZID=UTC+0:20270310T200000
DTSTAMP:20260425T134013
CREATED:20250529T021716Z
LAST-MODIFIED:20250529T025714Z
UID:35651-1804705200-1804708800@stgeorge-stmercurius.com
SUMMARY:Prayer Meeting
DESCRIPTION:
URL:https://stgeorge-stmercurius.com/event/prayer-meeting/2027-03-10/
END:VEVENT
END:VCALENDAR