BEGIN:VCALENDAR
VERSION:2.0
PRODID:-//ST. GEORGE &amp; ST. MERCURIUS - ECPv4.6.12//NONSGML v1.0//EN
CALSCALE:GREGORIAN
METHOD:PUBLISH
X-WR-CALNAME:ST. GEORGE &amp; ST. MERCURIUS
X-ORIGINAL-URL:https://stgeorge-stmercurius.com
X-WR-CALDESC:Events for ST. GEORGE &amp; ST. MERCURIUS
BEGIN:VEVENT
DTSTART;TZID=UTC+0:20250711T193000
DTEND;TZID=UTC+0:20250711T210000
DTSTAMP:20260421T163443
CREATED:20250529T015814Z
LAST-MODIFIED:20250705T195654Z
UID:35814-1752262200-1752267600@stgeorge-stmercurius.com
SUMMARY:Offering of evening incense for the Feast of the Apostles
DESCRIPTION:
URL:https://stgeorge-stmercurius.com/event/the-holy-family-meeting-2025-07-11/
END:VEVENT
END:VCALENDAR