BEGIN:VCALENDAR
VERSION:2.0
PRODID:-//ST. GEORGE &amp; ST. MERCURIUS - ECPv4.6.12//NONSGML v1.0//EN
CALSCALE:GREGORIAN
METHOD:PUBLISH
X-WR-CALNAME:ST. GEORGE &amp; ST. MERCURIUS
X-ORIGINAL-URL:https://stgeorge-stmercurius.com
X-WR-CALDESC:Events for ST. GEORGE &amp; ST. MERCURIUS
BEGIN:VEVENT
DTSTART;TZID=UTC+0:20250919T193000
DTEND;TZID=UTC+0:20250919T210000
DTSTAMP:20260421T190742
CREATED:20250529T015814Z
LAST-MODIFIED:20250529T015814Z
UID:35824-1758310200-1758315600@stgeorge-stmercurius.com
SUMMARY:The Holy Family Meeting
DESCRIPTION:
URL:https://stgeorge-stmercurius.com/event/the-holy-family-meeting/2025-09-19/
END:VEVENT
END:VCALENDAR