BEGIN:VCALENDAR
VERSION:2.0
PRODID:-//ST. GEORGE &amp; ST. MERCURIUS - ECPv4.6.12//NONSGML v1.0//EN
CALSCALE:GREGORIAN
METHOD:PUBLISH
X-WR-CALNAME:ST. GEORGE &amp; ST. MERCURIUS
X-ORIGINAL-URL:https://stgeorge-stmercurius.com
X-WR-CALDESC:Events for ST. GEORGE &amp; ST. MERCURIUS
BEGIN:VEVENT
DTSTART;TZID=UTC+0:20210615T193000
DTEND;TZID=UTC+0:20210615T210000
DTSTAMP:20260423T021714
CREATED:20160526T190428Z
LAST-MODIFIED:20210608T020424Z
UID:12492-1623785400-1623790800@stgeorge-stmercurius.com
SUMMARY:Offering of evening Incense - تسبحة و رفع بخور صلاة عشية
DESCRIPTION:Glorification for St. Mercurius\, relocation of his relics to Cairo \n
URL:https://stgeorge-stmercurius.com/event/hymns-and-the-offering-of-evening-incense-2021-06-05/
ATTACH;FMTTYPE=image/jpeg:https://stgeorge-stmercurius.com/wp-content/uploads/2016/05/IMG_7059.jpg
END:VEVENT
END:VCALENDAR