BEGIN:VCALENDAR
VERSION:2.0
PRODID:-//ST. GEORGE &amp; ST. MERCURIUS - ECPv4.6.12//NONSGML v1.0//EN
CALSCALE:GREGORIAN
METHOD:PUBLISH
X-WR-CALNAME:ST. GEORGE &amp; ST. MERCURIUS
X-ORIGINAL-URL:https://stgeorge-stmercurius.com
X-WR-CALDESC:Events for ST. GEORGE &amp; ST. MERCURIUS
BEGIN:VEVENT
DTSTART;TZID=UTC+0:20210722T193000
DTEND;TZID=UTC+0:20210722T210000
DTSTAMP:20260421T062812
CREATED:20160526T190428Z
LAST-MODIFIED:20210712T011239Z
UID:12596-1626982200-1626987600@stgeorge-stmercurius.com
SUMMARY:Hymns and the offering of evening Incense - تسبحة و رفع بخور صلاة عشية
DESCRIPTION:Offering of evening incense for the feast of St. George – relocation of his relics to his church in Cairo \n
URL:https://stgeorge-stmercurius.com/event/hymns-and-the-offering-of-evening-incense-2021-07-03/
ATTACH;FMTTYPE=image/jpeg:https://stgeorge-stmercurius.com/wp-content/uploads/2016/05/IMG_7059.jpg
END:VEVENT
END:VCALENDAR