BEGIN:VCALENDAR
VERSION:2.0
PRODID:-//ST. GEORGE &amp; ST. MERCURIUS - ECPv4.6.12//NONSGML v1.0//EN
CALSCALE:GREGORIAN
METHOD:PUBLISH
X-WR-CALNAME:ST. GEORGE &amp; ST. MERCURIUS
X-ORIGINAL-URL:https://stgeorge-stmercurius.com
X-WR-CALDESC:Events for ST. GEORGE &amp; ST. MERCURIUS
BEGIN:VEVENT
DTSTART;TZID=UTC+0:20221115T193000
DTEND;TZID=UTC+0:20221115T203000
DTSTAMP:20260423T124520
CREATED:20160526T190428Z
LAST-MODIFIED:20221110T022518Z
UID:18442-1668540600-1668544200@stgeorge-stmercurius.com
SUMMARY:Hymns and the offering of evening Incense - تسبحة و رفع بخور صلاة عشية
DESCRIPTION:Offering of evening incense for the consecration of the church of St. George in Lydda\, followed by glorification \n
URL:https://stgeorge-stmercurius.com/event/hymns-and-the-offering-of-evening-incense-2022-11-05/
ATTACH;FMTTYPE=image/jpeg:https://stgeorge-stmercurius.com/wp-content/uploads/2016/05/IMG_7059.jpg
END:VEVENT
END:VCALENDAR