BEGIN:VCALENDAR
VERSION:2.0
PRODID:-//ST. GEORGE &amp; ST. MERCURIUS - ECPv4.6.12//NONSGML v1.0//EN
CALSCALE:GREGORIAN
METHOD:PUBLISH
X-WR-CALNAME:ST. GEORGE &amp; ST. MERCURIUS
X-ORIGINAL-URL:https://stgeorge-stmercurius.com
X-WR-CALDESC:Events for ST. GEORGE &amp; ST. MERCURIUS
BEGIN:VEVENT
DTSTART;TZID=UTC+0:20230912T080000
DTEND;TZID=UTC+0:20230912T100000
DTSTAMP:20260425T223823
CREATED:20160906T162229Z
LAST-MODIFIED:20230904T123138Z
UID:30854-1694505600-1694512800@stgeorge-stmercurius.com
SUMMARY:Divine Liturgy - القداس الالهى
DESCRIPTION:Divine Liturgy \nHappy Feast of Nayrouz \n(Coptic New Year 1740 A.M.) \nالقداس الالهى\n
URL:https://stgeorge-stmercurius.com/event/divine-liturgy-%d8%a7%d9%84%d9%82%d8%af%d8%a7%d8%b3-%d8%a7%d9%84%d8%a7%d9%84%d9%87%d9%89-2-2017-02-22-2022-03-02-2022-05-04-2023-02-22-2023-04-26-2023-08-30/
ATTACH;FMTTYPE=image/jpeg:https://stgeorge-stmercurius.com/wp-content/uploads/2016/09/IMG_3579.jpeg
END:VEVENT
END:VCALENDAR