BEGIN:VCALENDAR
VERSION:2.0
PRODID:-//ST. GEORGE &amp; ST. MERCURIUS - ECPv4.6.12//NONSGML v1.0//EN
CALSCALE:GREGORIAN
METHOD:PUBLISH
X-WR-CALNAME:ST. GEORGE &amp; ST. MERCURIUS
X-ORIGINAL-URL:https://stgeorge-stmercurius.com
X-WR-CALDESC:Events for ST. GEORGE &amp; ST. MERCURIUS
BEGIN:VEVENT
DTSTART;TZID=UTC+0:20231125T080000
DTEND;TZID=UTC+0:20231125T100000
DTSTAMP:20260421T142851
CREATED:20160906T162229Z
LAST-MODIFIED:20231117T005123Z
UID:24384-1700899200-1700906400@stgeorge-stmercurius.com
SUMMARY:Divine Liturgy - القداس الالهى
DESCRIPTION:Divine Liturgy \nThe Martyrdom of St. Mina the Wonder Worker \nالقداس الالهى\n
URL:https://stgeorge-stmercurius.com/event/divine-liturgy-%d8%a7%d9%84%d9%82%d8%af%d8%a7%d8%b3-%d8%a7%d9%84%d8%a7%d9%84%d9%87%d9%89-2-2017-02-22-2020-03-04-2020-07-01-2023-11-25/
ATTACH;FMTTYPE=image/jpeg:https://stgeorge-stmercurius.com/wp-content/uploads/2016/09/2D0919CB-22B3-41B8-B480-CFC11633CEF9.jpeg
END:VEVENT
END:VCALENDAR