BEGIN:VCALENDAR
VERSION:2.0
PRODID:-//ST. GEORGE &amp; ST. MERCURIUS - ECPv4.6.12//NONSGML v1.0//EN
CALSCALE:GREGORIAN
METHOD:PUBLISH
X-WR-CALNAME:ST. GEORGE &amp; ST. MERCURIUS
X-ORIGINAL-URL:https://stgeorge-stmercurius.com
X-WR-CALDESC:Events for ST. GEORGE &amp; ST. MERCURIUS
BEGIN:VEVENT
DTSTART;TZID=UTC+0:20240418T160000
DTEND;TZID=UTC+0:20240418T183000
DTSTAMP:20260420T062318
CREATED:20240412T223549Z
LAST-MODIFIED:20240412T224111Z
UID:33161-1713456000-1713465000@stgeorge-stmercurius.com
SUMMARY:Divine Liturgy القداس الإلهي
DESCRIPTION:
URL:https://stgeorge-stmercurius.com/event/divine-liturgy-%d8%a7%d9%84%d9%82%d8%af%d8%a7%d8%b3-%d8%a7%d9%84%d8%a5%d9%84%d9%87%d9%8a/2024-04-18/
ATTACH;FMTTYPE=image/jpeg:https://stgeorge-stmercurius.com/wp-content/uploads/2016/10/IMG_6832-e1475975331812.jpg
END:VEVENT
END:VCALENDAR