BEGIN:VCALENDAR
VERSION:2.0
PRODID:-//ST. GEORGE &amp; ST. MERCURIUS - ECPv4.6.12//NONSGML v1.0//EN
CALSCALE:GREGORIAN
METHOD:PUBLISH
X-WR-CALNAME:ST. GEORGE &amp; ST. MERCURIUS
X-ORIGINAL-URL:https://stgeorge-stmercurius.com
X-WR-CALDESC:Events for ST. GEORGE &amp; ST. MERCURIUS
BEGIN:VEVENT
DTSTART;TZID=UTC+0:20260106T080000
DTEND;TZID=UTC+0:20260106T100000
DTSTAMP:20260423T070311
CREATED:20260119T031250Z
LAST-MODIFIED:20260119T031250Z
UID:36842-1767686400-1767693600@stgeorge-stmercurius.com
SUMMARY:Divine Liturgy - Paramoun
DESCRIPTION:
URL:https://stgeorge-stmercurius.com/event/divine-liturgy-paramoun/
END:VEVENT
BEGIN:VEVENT
DTSTART;TZID=UTC+0:20260106T200000
DTEND;TZID=UTC+0:20260107T001500
DTSTAMP:20260423T070311
CREATED:20260119T031351Z
LAST-MODIFIED:20260119T031351Z
UID:36846-1767729600-1767744900@stgeorge-stmercurius.com
SUMMARY:Divine Liturgy for the Feast of Nativity
DESCRIPTION:
URL:https://stgeorge-stmercurius.com/event/divine-liturgy-for-the-feast-of-nativity/
END:VEVENT
END:VCALENDAR