BEGIN:VCALENDAR
VERSION:2.0
PRODID:-//ST. GEORGE &amp; ST. MERCURIUS - ECPv4.6.12//NONSGML v1.0//EN
CALSCALE:GREGORIAN
METHOD:PUBLISH
X-WR-CALNAME:ST. GEORGE &amp; ST. MERCURIUS
X-ORIGINAL-URL:https://stgeorge-stmercurius.com
X-WR-CALDESC:Events for ST. GEORGE &amp; ST. MERCURIUS
BEGIN:VEVENT
DTSTART;TZID=UTC+0:20260110T080000
DTEND;TZID=UTC+0:20260110T100000
DTSTAMP:20260423T122854
CREATED:20250529T020545Z
LAST-MODIFIED:20250529T022855Z
UID:35475-1768032000-1768039200@stgeorge-stmercurius.com
SUMMARY:Divine Liturgy - القداس الالهى
DESCRIPTION:
URL:https://stgeorge-stmercurius.com/event/divine-liturgy-%d8%a7%d9%84%d9%82%d8%af%d8%a7%d8%b3-%d8%a7%d9%84%d8%a7%d9%84%d9%87%d9%89/2026-01-10/
ATTACH;FMTTYPE=image/jpeg:https://stgeorge-stmercurius.com/wp-content/uploads/2016/10/IMG_6832-e1475975331812.jpg
END:VEVENT
BEGIN:VEVENT
DTSTART;TZID=UTC+0:20260110T183000
DTEND;TZID=UTC+0:20260110T200000
DTSTAMP:20260423T122854
CREATED:20260119T030952Z
LAST-MODIFIED:20260119T030952Z
UID:36837-1768069800-1768075200@stgeorge-stmercurius.com
SUMMARY:Offering of evening incense followed by midnight praise
DESCRIPTION:
URL:https://stgeorge-stmercurius.com/event/offering-of-evening-incense-followed-by-midnight-praise-4/2026-01-10/
END:VEVENT
END:VCALENDAR