BEGIN:VCALENDAR
VERSION:2.0
PRODID:-//ST. GEORGE &amp; ST. MERCURIUS - ECPv4.6.12//NONSGML v1.0//EN
CALSCALE:GREGORIAN
METHOD:PUBLISH
X-WR-CALNAME:ST. GEORGE &amp; ST. MERCURIUS
X-ORIGINAL-URL:https://stgeorge-stmercurius.com
X-WR-CALDESC:Events for ST. GEORGE &amp; ST. MERCURIUS
BEGIN:VEVENT
DTSTART;TZID=UTC+0:20230409T080000
DTEND;TZID=UTC+0:20230409T130000
DTSTAMP:20260422T065215
CREATED:20160906T162027Z
LAST-MODIFIED:20230404T155900Z
UID:26503-1681027200-1681045200@stgeorge-stmercurius.com
SUMMARY:Divine Liturgy - القداس الالهى
DESCRIPTION:Palm Procession followed by the Divine Liturgy and the general funeral service \nالقداس الالهى يعقبه -آحد السعف/الجناز العام\n  \n
URL:https://stgeorge-stmercurius.com/event/divine-liturgy-%d8%a7%d9%84%d9%82%d8%af%d8%a7%d8%b3-%d8%a7%d9%84%d8%a7%d9%84%d9%87%d9%89-2020-06-28-2022-05-15-2023-04-09/
CATEGORIES:English
ATTACH;FMTTYPE=image/jpeg:https://stgeorge-stmercurius.com/wp-content/uploads/2016/10/961DF583-1EDE-4505-8732-3D69F638B0EC.jpeg
END:VEVENT
END:VCALENDAR